BEGIN:VCALENDAR
VERSION:2.0
PRODID:-//Samyama - ECPv6.13.2.1//NONSGML v1.0//EN
CALSCALE:GREGORIAN
METHOD:PUBLISH
X-WR-CALNAME:Samyama
X-ORIGINAL-URL:https://www.samyama.org
X-WR-CALDESC:Events for Samyama
REFRESH-INTERVAL;VALUE=DURATION:PT1H
X-Robots-Tag:noindex
X-PUBLISHED-TTL:PT1H
BEGIN:VTIMEZONE
TZID:Asia/Kolkata
BEGIN:STANDARD
TZOFFSETFROM:+0530
TZOFFSETTO:+0530
TZNAME:IST
DTSTART:20250101T000000
END:STANDARD
END:VTIMEZONE
BEGIN:VEVENT
DTSTART;TZID=Asia/Kolkata:20250221T140000
DTEND;TZID=Asia/Kolkata:20250225T100000
DTSTAMP:20260426T032848
CREATED:20250102T050707Z
LAST-MODIFIED:20250102T051706Z
UID:10589-1740146400-1740477600@www.samyama.org
SUMMARY:Rajasthan Retreat with SAMYAMA
DESCRIPTION:Rajasthan Retreat with SAMYAMA\n\nMore About Event\nLet us have a Memorable Spiritual journey with SAMYAMA (as always) & move another step forward in our Soul Journey… \nVenue: Jaipur\, Rajasthan\nArrival Date: 21 February 2025\nDeparture Date: 25 February 2025\nLast Date of Registration: 10th January 2025 \nIncluded:\n\nFull Board Meals\nStay- 4 Nights in Double occupancy Rooms in 4 Star Hotel\nExcursions\nEntry Fees\nCultural program\nMeditation\nSpiritual Satsang\nAirport transfers (at Fixed Timings)\n3 days of Pre Retreat Divine Healings\n7 days of Post Retreat Divine Healings\n\nExcluded:\n\nTravel Fare from your Home location to Jaipur city\nTravel Fare from Jaipur city to your Home\nAny personal expenses\nMedical expenses\n\nEligibility:\n\nPeople who are above 18 years of age\nPeople who are below 70 years of age\nAbove 70 years of age only upon Maa & Guruji’s approvals.\n\nNot Eligible:\n\nWomen who are pregnant\nPeople who have any chronic illness\n\n\nWe would be immensely glad to see you in Jaipur…\nFor more information & registrations you may contact us. \n\n\nWith Divine Light\,\nHeal Meditate Evolve
URL:https://www.samyama.org/event/rajasthan-retreat-with-samyama/
LOCATION:Golden Tulip Hotel\, Opposite Gpo - M.i Road.\, Jaipur\, Rajasthan\, 302001\, India
CATEGORIES:Meditation Events
ATTACH;FMTTYPE=image/jpeg:https://www.samyama.org/wp-content/uploads/2025/01/Rajasthan-Retreat-with-SAMYAMA.jpg
ORGANIZER;CN="Samyama Healing Centre":MAILTO:samyama.org@gmail.com
END:VEVENT
END:VCALENDAR