BEGIN:VCALENDAR
VERSION:2.0
PRODID:-//Samyama - ECPv6.13.2.1//NONSGML v1.0//EN
CALSCALE:GREGORIAN
METHOD:PUBLISH
X-WR-CALNAME:Samyama
X-ORIGINAL-URL:https://www.samyama.org
X-WR-CALDESC:Events for Samyama
REFRESH-INTERVAL;VALUE=DURATION:PT1H
X-Robots-Tag:noindex
X-PUBLISHED-TTL:PT1H
BEGIN:VTIMEZONE
TZID:UTC
BEGIN:STANDARD
TZOFFSETFROM:+0000
TZOFFSETTO:+0000
TZNAME:UTC
DTSTART:20210101T000000
END:STANDARD
END:VTIMEZONE
BEGIN:VTIMEZONE
TZID:Asia/Kolkata
BEGIN:STANDARD
TZOFFSETFROM:+0530
TZOFFSETTO:+0530
TZNAME:IST
DTSTART:20210101T000000
END:STANDARD
END:VTIMEZONE
BEGIN:VEVENT
DTSTART;TZID=UTC:20211202T110000
DTEND;TZID=UTC:20211202T220000
DTSTAMP:20260425T173655
CREATED:20211109T064753Z
LAST-MODIFIED:20211109T071059Z
UID:8595-1638442800-1638482400@www.samyama.org
SUMMARY:NORTH EAST SPIRITUAL RETREAT
DESCRIPTION:NORTH EAST SPIRITUAL RETREAT\nMore About Event\nSAMYAMA Liberal School of Spirituality with its mission to guide seekers in their SOUL Journey & to help achieve Body-Mind-Soul alignment to its best possible way is pleased to OFFER you a once in a lifetime Spiritual Retreat in the foothills of the Himalayas in the North East of India. This much awaited & rejuvenating event is being organized under the Divine Guidance & Presence of MahaYogi Madhukarji & Maa Aditiji. \nDURATION: 4 Nights & 5 Days\nDATE: Thursday 2nd December – Monday 6th December 2021 \nVENUE: Guwahati | Kaziranga | Shillong \nTHE RETREAT INCLUDES:\n\nTotal 21 days of Meditation\nFull rejuvenation with accommodation in boutique resorts in Guwahati and Shillong – 2 Nights each\nParticipants would be reinvigorated at Body\, Mind & Soul level leading to increased immunity\, health & overall well-being.\nBasic techniques to keep your Energy System clean\, fresh & protected\nSatsang with Guruji & Maa where any query related to Spiritual Life & Soul Journey can be quenched\nBonfire & Meditation\nSafari in Kaziranga National Park – UNESCO World Heritage Centre\nImmersion in Assamese and Meghalaya culture through Bihu Dance\, Brahmaputra River Cruise\, Tribal Village visits\, etc.\nVisit Mawlynnong (Cleanest Village in Asia)\, Cherrapunji (part of Wettest Region on Earth)\, Living Root Bridges\nTravel to Umngot River (Cleanest River in Asia)\, mesmerizing falls such as NohKaLikai (Tallest Plunge Waterfall in India) & natural caves\nAnd much more…\n\nLAST DATE FOR REGISTRATION: Thursday 25th November 2021 11:59PM IST\n 
URL:https://www.samyama.org/event/north-east-spiritual-retreat/
CATEGORIES:Meditation Events
ATTACH;FMTTYPE=image/jpeg:https://www.samyama.org/wp-content/uploads/2021/11/North-East-India-1.jpg
END:VEVENT
BEGIN:VEVENT
DTSTART;TZID=Asia/Kolkata:20211028T110000
DTEND;TZID=Asia/Kolkata:20211031T110000
DTSTAMP:20260425T173655
CREATED:20210928T053021Z
LAST-MODIFIED:20210929T011910Z
UID:7999-1635418800-1635678000@www.samyama.org
SUMMARY:Spiritual Retreat Bangalore 2021
DESCRIPTION:Spiritual Retreat Bangalore 2021\nMore About Retreat\nSamyama Foundation is pleased to Invite All to join us for our 3N/4D Spiritual Retreat in Bengaluru\, under The Divine Guidance of MahaYogi Madhukarji & Maa Aditiji. \nSpiritual Retreat Details:\nContemporary situation on Earth demands Human beings to be sharper & brighter than earlier days to live a healthy life.\nTo enhance these qualities\, periodical refreshment\, rejuvenation & boost up is required NOT only at the Body-Mind level but also at Soul level. So that Humanity can flourish at different aspects of life & accomplish their Earthly purposes. \nKeeping this requirement as the need of the HOUR\, we at Samyama\, organizing our next 3N /4D Spiritual Retreat at Bangalore\, under the Divine Guidance of MahaYogi Madhukarji & Maa Aditiji \nSpiritual Retreat Includes:\n\nDaily practice of Yoga\, Pranayam & Meditation\nBasic techniques to keep your Energy System clean\, fresh & protected\nSatsang with Guruji & Maa where any query related to Spiritual Life & Soul Journey can be quenched\nComplete revitalization at the lush green atmosphere aided with serene surroundings & Invigorating energy\nSiddha Fire Meditation\nAnd much more…
URL:https://www.samyama.org/event/spiritual-retreat-bangalore/
CATEGORIES:Meditation Events
ATTACH;FMTTYPE=image/jpeg:https://www.samyama.org/wp-content/uploads/2021/09/Spiritual-Retreat-Bangalore.jpg
END:VEVENT
END:VCALENDAR