BEGIN:VCALENDAR
VERSION:2.0
PRODID:-//Samyama - ECPv6.13.2.1//NONSGML v1.0//EN
CALSCALE:GREGORIAN
METHOD:PUBLISH
X-WR-CALNAME:Samyama
X-ORIGINAL-URL:https://www.samyama.org
X-WR-CALDESC:Events for Samyama
REFRESH-INTERVAL;VALUE=DURATION:PT1H
X-Robots-Tag:noindex
X-PUBLISHED-TTL:PT1H
BEGIN:VTIMEZONE
TZID:Asia/Kolkata
BEGIN:STANDARD
TZOFFSETFROM:+0530
TZOFFSETTO:+0530
TZNAME:IST
DTSTART:20260101T000000
END:STANDARD
END:VTIMEZONE
BEGIN:VEVENT
DTSTART;TZID=Asia/Kolkata:20260517T210000
DTEND;TZID=Asia/Kolkata:20260517T213000
DTSTAMP:20260422T152058
CREATED:20210823T030815Z
LAST-MODIFIED:20260304T064344Z
UID:4268-1779051600-1779053400@www.samyama.org
SUMMARY:Amavasya / New Moon Meditation
DESCRIPTION:Amavasya / New Moon Meditation\n\nMore About Event\nSamyama Foundation is pleased to Invite All to join us for our next free charitable AMAVASYA / NEW MOON MEDITATION session being conducted online under The Divine Guidance of MahaYogi Madhukarji & Maa Aditiji. \nWhat is the Significance of New Moon or Amavasya?\nOn a New Moon day\, the Moon is in between the Earth and the Sun\, and the bright side of the Moon is facing away from the Earth. So it’s exactly the opposite of the Full Moon where the bright side of the moon is fully facing the Earth. But in New Moon\, the side that faces the Earth lies in darkness\, blending in with the dark night sky. So the Moon is invisible to us.\nNew moon represents the start of a new lunar cycle. It represents special meaning for cultures around the world and symbolizes new beginnings. The energy of a new moon is used to introspect and reflect on old practices\, habits and lifestyle and help us progress towards betterment and Growth as the moon waxes towards Fullness. \nBenefits of New Moon Meditation:\n\nMay help us to set intentions & start good practices that can be implemented & developed further as the moon waxes toward fullness.\nHelps in Connecting to these lunar energies providing grounding and a sense of direction.\nDuring New Moon\, our moods and feelings tend to be more calm allowing opportunity for self-reflection and introspection.
URL:https://www.samyama.org/event/amavasya-new-moon-meditation/
LOCATION:Online\, Samyama Healing Centre\, India
CATEGORIES:Meditation Events
ATTACH;FMTTYPE=image/jpeg:https://www.samyama.org/wp-content/uploads/2021/08/New-Moon-Landscape.jpg
END:VEVENT
END:VCALENDAR